BEGIN:VCALENDAR
VERSION:2.0
PRODID:-//Michigan Pork Producers Association  - ECPv6.15.20//NONSGML v1.0//EN
CALSCALE:GREGORIAN
METHOD:PUBLISH
X-ORIGINAL-URL:https://www.mipork.org
X-WR-CALDESC:Events for Michigan Pork Producers Association 
REFRESH-INTERVAL;VALUE=DURATION:PT1H
X-Robots-Tag:noindex
X-PUBLISHED-TTL:PT1H
BEGIN:VTIMEZONE
TZID:UTC
BEGIN:STANDARD
TZOFFSETFROM:+0000
TZOFFSETTO:+0000
TZNAME:UTC
DTSTART:20240101T000000
END:STANDARD
END:VTIMEZONE
BEGIN:VEVENT
DTSTART;TZID=UTC:20250213T080000
DTEND;TZID=UTC:20250213T190000
DTSTAMP:20260425T152756
CREATED:20240523T203952Z
LAST-MODIFIED:20240523T204035Z
UID:1240-1739433600-1739473200@www.mipork.org
SUMMARY:2025 Michigan Pork Symposium
DESCRIPTION:February 13\, 2025 @ 8:00 am – 7:00 pm Save the Date! The 2025 Michigan Pork Symposium will be held on Thursday\, February 13\, 2025 at the Lansing Center in Lansing\, MI.
URL:https://www.mipork.org/event/2025-michigan-pork-symposium/
END:VEVENT
BEGIN:VEVENT
DTSTART;TZID=UTC:20260225T080000
DTEND;TZID=UTC:20260225T190000
DTSTAMP:20260425T152756
CREATED:20250731T165427Z
LAST-MODIFIED:20251215T150103Z
UID:1687-1772006400-1772046000@www.mipork.org
SUMMARY:2026 Michigan Pork Symposium
DESCRIPTION:Save the date for the 2026 Michigan Pork Symposium! We will be back in Grand Rapids\, but trying out a new location at the Sheraton Grand Rapids Airport Hotel on February 25\, 2026. The address is 5700 28th St SE\, Grand Rapids\, MI 49546. Check our Michigan Pork Conference tab for more information!
URL:https://www.mipork.org/event/2026-michigan-pork-symposium/
END:VEVENT
END:VCALENDAR